BEGIN:VCALENDAR
VERSION:2.0
PRODID:-//Société de Tir de Béziers - ECPv6.15.20//NONSGML v1.0//EN
CALSCALE:GREGORIAN
METHOD:PUBLISH
X-ORIGINAL-URL:https://stbeziers.com
X-WR-CALDESC:Évènements pour Société de Tir de Béziers
REFRESH-INTERVAL;VALUE=DURATION:PT1H
X-Robots-Tag:noindex
X-PUBLISHED-TTL:PT1H
BEGIN:VTIMEZONE
TZID:Europe/Paris
BEGIN:DAYLIGHT
TZOFFSETFROM:+0100
TZOFFSETTO:+0200
TZNAME:CEST
DTSTART:20250330T010000
END:DAYLIGHT
BEGIN:STANDARD
TZOFFSETFROM:+0200
TZOFFSETTO:+0100
TZNAME:CET
DTSTART:20251026T010000
END:STANDARD
BEGIN:DAYLIGHT
TZOFFSETFROM:+0100
TZOFFSETTO:+0200
TZNAME:CEST
DTSTART:20260329T010000
END:DAYLIGHT
BEGIN:STANDARD
TZOFFSETFROM:+0200
TZOFFSETTO:+0100
TZNAME:CET
DTSTART:20261025T010000
END:STANDARD
BEGIN:DAYLIGHT
TZOFFSETFROM:+0100
TZOFFSETTO:+0200
TZNAME:CEST
DTSTART:20270328T010000
END:DAYLIGHT
BEGIN:STANDARD
TZOFFSETFROM:+0200
TZOFFSETTO:+0100
TZNAME:CET
DTSTART:20271031T010000
END:STANDARD
END:VTIMEZONE
BEGIN:VEVENT
DTSTART;TZID=Europe/Paris:20260401T140000
DTEND;TZID=Europe/Paris:20260401T170000
DTSTAMP:20260423T020338
CREATED:20260316T120533Z
LAST-MODIFIED:20260316T120534Z
UID:2952-1775052000-1775062800@stbeziers.com
SUMMARY:Permanence de Francis
DESCRIPTION:
URL:https://stbeziers.com/horaires-permanence/permanence-de-francis-9/
END:VEVENT
BEGIN:VEVENT
DTSTART;TZID=Europe/Paris:20260401T143000
DTEND;TZID=Europe/Paris:20260401T163000
DTSTAMP:20260423T020338
CREATED:20260316T123541Z
LAST-MODIFIED:20260316T123542Z
UID:2990-1775053800-1775061000@stbeziers.com
SUMMARY:Criterium EDT J3 - Agde
DESCRIPTION:
URL:https://stbeziers.com/horaires-permanence/criterium-edt-j3-agde/
END:VEVENT
END:VCALENDAR