BEGIN:VCALENDAR
VERSION:2.0
PRODID:-//Société de Tir de Béziers - ECPv6.15.20//NONSGML v1.0//EN
CALSCALE:GREGORIAN
METHOD:PUBLISH
X-WR-CALNAME:Société de Tir de Béziers
X-ORIGINAL-URL:https://stbeziers.com
X-WR-CALDESC:Évènements pour Société de Tir de Béziers
REFRESH-INTERVAL;VALUE=DURATION:PT1H
X-Robots-Tag:noindex
X-PUBLISHED-TTL:PT1H
BEGIN:VTIMEZONE
TZID:Europe/Paris
BEGIN:DAYLIGHT
TZOFFSETFROM:+0100
TZOFFSETTO:+0200
TZNAME:CEST
DTSTART:20250330T010000
END:DAYLIGHT
BEGIN:STANDARD
TZOFFSETFROM:+0200
TZOFFSETTO:+0100
TZNAME:CET
DTSTART:20251026T010000
END:STANDARD
BEGIN:DAYLIGHT
TZOFFSETFROM:+0100
TZOFFSETTO:+0200
TZNAME:CEST
DTSTART:20260329T010000
END:DAYLIGHT
BEGIN:STANDARD
TZOFFSETFROM:+0200
TZOFFSETTO:+0100
TZNAME:CET
DTSTART:20261025T010000
END:STANDARD
BEGIN:DAYLIGHT
TZOFFSETFROM:+0100
TZOFFSETTO:+0200
TZNAME:CEST
DTSTART:20270328T010000
END:DAYLIGHT
BEGIN:STANDARD
TZOFFSETFROM:+0200
TZOFFSETTO:+0100
TZNAME:CET
DTSTART:20271031T010000
END:STANDARD
END:VTIMEZONE
BEGIN:VEVENT
DTSTART;TZID=Europe/Paris:20260410T080000
DTEND;TZID=Europe/Paris:20260412T170000
DTSTAMP:20260423T064739
CREATED:20260325T163429Z
LAST-MODIFIED:20260325T163430Z
UID:3324-1775808000-1776013200@stbeziers.com
SUMMARY:Championnat Interdépartemental S.M. Carabine 22LR + Field - BAGNOLS SUR CEZE (30)
DESCRIPTION:
URL:https://stbeziers.com/horaires-permanence/championnat-interdepartemental-s-m-carabine-22lr-field-bagnols-sur-ceze-30/
END:VEVENT
BEGIN:VEVENT
DTSTART;TZID=Europe/Paris:20260411T080000
DTEND;TZID=Europe/Paris:20260412T170000
DTSTAMP:20260423T064739
CREATED:20260316T124007Z
LAST-MODIFIED:20260316T124008Z
UID:2996-1775894400-1776013200@stbeziers.com
SUMMARY:Régional EDT - SETE
DESCRIPTION:
URL:https://stbeziers.com/horaires-permanence/regional-edt-sete/
END:VEVENT
BEGIN:VEVENT
DTSTART;TZID=Europe/Paris:20260411T140000
DTEND;TZID=Europe/Paris:20260411T170000
DTSTAMP:20260423T064739
CREATED:20260218T163326Z
LAST-MODIFIED:20260218T163327Z
UID:2508-1775916000-1775926800@stbeziers.com
SUMMARY:Permanence de Francis
DESCRIPTION:
URL:https://stbeziers.com/horaires-permanence/permanence-de-francis-4/
END:VEVENT
END:VCALENDAR