BEGIN:VCALENDAR
VERSION:2.0
PRODID:-//Société de Tir de Béziers - ECPv6.15.20//NONSGML v1.0//EN
CALSCALE:GREGORIAN
METHOD:PUBLISH
X-WR-CALNAME:Société de Tir de Béziers
X-ORIGINAL-URL:https://stbeziers.com
X-WR-CALDESC:Évènements pour Société de Tir de Béziers
REFRESH-INTERVAL;VALUE=DURATION:PT1H
X-Robots-Tag:noindex
X-PUBLISHED-TTL:PT1H
BEGIN:VTIMEZONE
TZID:Europe/Paris
BEGIN:DAYLIGHT
TZOFFSETFROM:+0100
TZOFFSETTO:+0200
TZNAME:CEST
DTSTART:20250330T010000
END:DAYLIGHT
BEGIN:STANDARD
TZOFFSETFROM:+0200
TZOFFSETTO:+0100
TZNAME:CET
DTSTART:20251026T010000
END:STANDARD
BEGIN:DAYLIGHT
TZOFFSETFROM:+0100
TZOFFSETTO:+0200
TZNAME:CEST
DTSTART:20260329T010000
END:DAYLIGHT
BEGIN:STANDARD
TZOFFSETFROM:+0200
TZOFFSETTO:+0100
TZNAME:CET
DTSTART:20261025T010000
END:STANDARD
BEGIN:DAYLIGHT
TZOFFSETFROM:+0100
TZOFFSETTO:+0200
TZNAME:CEST
DTSTART:20270328T010000
END:DAYLIGHT
BEGIN:STANDARD
TZOFFSETFROM:+0200
TZOFFSETTO:+0100
TZNAME:CET
DTSTART:20271031T010000
END:STANDARD
END:VTIMEZONE
BEGIN:VEVENT
DTSTART;TZID=Europe/Paris:20260418T080000
DTEND;TZID=Europe/Paris:20260419T170000
DTSTAMP:20260423T033545
CREATED:20260316T124528Z
LAST-MODIFIED:20260316T124529Z
UID:3002-1776499200-1776618000@stbeziers.com
SUMMARY:Départemental TAR - Balaruc
DESCRIPTION:
URL:https://stbeziers.com/horaires-permanence/departemental-tar-balaruc/
END:VEVENT
BEGIN:VEVENT
DTSTART;TZID=Europe/Paris:20260418T140000
DTEND;TZID=Europe/Paris:20260418T170000
DTSTAMP:20260423T033545
CREATED:20260218T163528Z
LAST-MODIFIED:20260218T163529Z
UID:2514-1776520800-1776531600@stbeziers.com
SUMMARY:Permanence de Francis
DESCRIPTION:
URL:https://stbeziers.com/horaires-permanence/permanence-de-francis-6/
END:VEVENT
END:VCALENDAR