BEGIN:VCALENDAR
VERSION:2.0
PRODID:-//Société de Tir de Béziers - ECPv6.15.20//NONSGML v1.0//EN
CALSCALE:GREGORIAN
METHOD:PUBLISH
X-ORIGINAL-URL:https://stbeziers.com
X-WR-CALDESC:Évènements pour Société de Tir de Béziers
REFRESH-INTERVAL;VALUE=DURATION:PT1H
X-Robots-Tag:noindex
X-PUBLISHED-TTL:PT1H
BEGIN:VTIMEZONE
TZID:Europe/Paris
BEGIN:DAYLIGHT
TZOFFSETFROM:+0100
TZOFFSETTO:+0200
TZNAME:CEST
DTSTART:20250330T010000
END:DAYLIGHT
BEGIN:STANDARD
TZOFFSETFROM:+0200
TZOFFSETTO:+0100
TZNAME:CET
DTSTART:20251026T010000
END:STANDARD
BEGIN:DAYLIGHT
TZOFFSETFROM:+0100
TZOFFSETTO:+0200
TZNAME:CEST
DTSTART:20260329T010000
END:DAYLIGHT
BEGIN:STANDARD
TZOFFSETFROM:+0200
TZOFFSETTO:+0100
TZNAME:CET
DTSTART:20261025T010000
END:STANDARD
BEGIN:DAYLIGHT
TZOFFSETFROM:+0100
TZOFFSETTO:+0200
TZNAME:CEST
DTSTART:20270328T010000
END:DAYLIGHT
BEGIN:STANDARD
TZOFFSETFROM:+0200
TZOFFSETTO:+0100
TZNAME:CET
DTSTART:20271031T010000
END:STANDARD
END:VTIMEZONE
BEGIN:VEVENT
DTSTART;TZID=Europe/Paris:20260418T080000
DTEND;TZID=Europe/Paris:20260419T170000
DTSTAMP:20260423T020419
CREATED:20260316T124528Z
LAST-MODIFIED:20260316T124529Z
UID:3002-1776499200-1776618000@stbeziers.com
SUMMARY:Départemental TAR - Balaruc
DESCRIPTION:
URL:https://stbeziers.com/horaires-permanence/departemental-tar-balaruc/
END:VEVENT
BEGIN:VEVENT
DTSTART;TZID=Europe/Paris:20260419T090000
DTEND;TZID=Europe/Paris:20260419T120000
DTSTAMP:20260423T020419
CREATED:20260218T163608Z
LAST-MODIFIED:20260218T163609Z
UID:2516-1776589200-1776600000@stbeziers.com
SUMMARY:Permanence de Luc
DESCRIPTION:
URL:https://stbeziers.com/horaires-permanence/permanence-de-luc/
END:VEVENT
BEGIN:VEVENT
DTSTART;TZID=Europe/Paris:20260419T140000
DTEND;TZID=Europe/Paris:20260419T173000
DTSTAMP:20260423T020419
CREATED:20260411T091717Z
LAST-MODIFIED:20260418T131451Z
UID:3638-1776607200-1776619800@stbeziers.com
SUMMARY:ANNULE - Entraînement Pistolet (10m ou 25m) - Béziers
DESCRIPTION:Entraînement Pistolet CDTir34 au stand de la STB\, 10m ou 25m (la distance dépendra du nombre d’inscriptions pour chacune des deux distances. Voir détails sur https://cdtir34.fr rubrique « Entraînements »
URL:https://stbeziers.com/horaires-permanence/entrainement-pistolet-10-ou-25-beziers/
END:VEVENT
END:VCALENDAR