BEGIN:VCALENDAR
VERSION:2.0
PRODID:-//Société de Tir de Béziers - ECPv6.15.20//NONSGML v1.0//EN
CALSCALE:GREGORIAN
METHOD:PUBLISH
X-ORIGINAL-URL:https://stbeziers.com
X-WR-CALDESC:Évènements pour Société de Tir de Béziers
REFRESH-INTERVAL;VALUE=DURATION:PT1H
X-Robots-Tag:noindex
X-PUBLISHED-TTL:PT1H
BEGIN:VTIMEZONE
TZID:Europe/Paris
BEGIN:DAYLIGHT
TZOFFSETFROM:+0100
TZOFFSETTO:+0200
TZNAME:CEST
DTSTART:20250330T010000
END:DAYLIGHT
BEGIN:STANDARD
TZOFFSETFROM:+0200
TZOFFSETTO:+0100
TZNAME:CET
DTSTART:20251026T010000
END:STANDARD
BEGIN:DAYLIGHT
TZOFFSETFROM:+0100
TZOFFSETTO:+0200
TZNAME:CEST
DTSTART:20260329T010000
END:DAYLIGHT
BEGIN:STANDARD
TZOFFSETFROM:+0200
TZOFFSETTO:+0100
TZNAME:CET
DTSTART:20261025T010000
END:STANDARD
BEGIN:DAYLIGHT
TZOFFSETFROM:+0100
TZOFFSETTO:+0200
TZNAME:CEST
DTSTART:20270328T010000
END:DAYLIGHT
BEGIN:STANDARD
TZOFFSETFROM:+0200
TZOFFSETTO:+0100
TZNAME:CET
DTSTART:20271031T010000
END:STANDARD
END:VTIMEZONE
BEGIN:VEVENT
DTSTART;TZID=Europe/Paris:20260425T080000
DTEND;TZID=Europe/Paris:20260426T170000
DTSTAMP:20260423T064519
CREATED:20260316T124745Z
LAST-MODIFIED:20260329T144521Z
UID:3006-1777104000-1777222800@stbeziers.com
SUMMARY:Départemental 25/50 - SETE
DESCRIPTION:
URL:https://stbeziers.com/horaires-permanence/departemental-25-50-sete/
END:VEVENT
BEGIN:VEVENT
DTSTART;TZID=Europe/Paris:20260425T140000
DTEND;TZID=Europe/Paris:20260425T170000
DTSTAMP:20260423T064519
CREATED:20260218T163927Z
LAST-MODIFIED:20260218T163928Z
UID:2522-1777125600-1777136400@stbeziers.com
SUMMARY:Permanence de Francis
DESCRIPTION:
URL:https://stbeziers.com/horaires-permanence/permanence-de-francis-7/
END:VEVENT
END:VCALENDAR