BEGIN:VCALENDAR
VERSION:2.0
PRODID:-//Société de Tir de Béziers - ECPv6.15.20//NONSGML v1.0//EN
CALSCALE:GREGORIAN
METHOD:PUBLISH
X-WR-CALNAME:Société de Tir de Béziers
X-ORIGINAL-URL:https://stbeziers.com
X-WR-CALDESC:Évènements pour Société de Tir de Béziers
REFRESH-INTERVAL;VALUE=DURATION:PT1H
X-Robots-Tag:noindex
X-PUBLISHED-TTL:PT1H
BEGIN:VTIMEZONE
TZID:Europe/Paris
BEGIN:DAYLIGHT
TZOFFSETFROM:+0100
TZOFFSETTO:+0200
TZNAME:CEST
DTSTART:20250330T010000
END:DAYLIGHT
BEGIN:STANDARD
TZOFFSETFROM:+0200
TZOFFSETTO:+0100
TZNAME:CET
DTSTART:20251026T010000
END:STANDARD
BEGIN:DAYLIGHT
TZOFFSETFROM:+0100
TZOFFSETTO:+0200
TZNAME:CEST
DTSTART:20260329T010000
END:DAYLIGHT
BEGIN:STANDARD
TZOFFSETFROM:+0200
TZOFFSETTO:+0100
TZNAME:CET
DTSTART:20261025T010000
END:STANDARD
BEGIN:DAYLIGHT
TZOFFSETFROM:+0100
TZOFFSETTO:+0200
TZNAME:CEST
DTSTART:20270328T010000
END:DAYLIGHT
BEGIN:STANDARD
TZOFFSETFROM:+0200
TZOFFSETTO:+0100
TZNAME:CET
DTSTART:20271031T010000
END:STANDARD
END:VTIMEZONE
BEGIN:VEVENT
DTSTART;TZID=Europe/Paris:20260501T080000
DTEND;TZID=Europe/Paris:20260503T170000
DTSTAMP:20260423T020246
CREATED:20260316T124943Z
LAST-MODIFIED:20260316T124944Z
UID:3010-1777622400-1777827600@stbeziers.com
SUMMARY:Régional AA - ST FLORENT (30)
DESCRIPTION:
URL:https://stbeziers.com/horaires-permanence/regional-aa-st-florent-30/
END:VEVENT
BEGIN:VEVENT
DTSTART;TZID=Europe/Paris:20260501T160000
DTEND;TZID=Europe/Paris:20260501T190000
DTSTAMP:20260423T020246
CREATED:20260325T161749Z
LAST-MODIFIED:20260325T162552Z
UID:3310-1777651200-1777662000@stbeziers.com
SUMMARY:FETE  DU  TRAVAIL  :  STAND  FERME
DESCRIPTION:
URL:https://stbeziers.com/horaires-permanence/stand-ferme/
END:VEVENT
END:VCALENDAR